BEGIN:VCALENDAR
VERSION:2.0
PRODID:lena-gumnior.fuer-die-gruenen.de
METHOD:PUBLISH
BEGIN:VTIMEZONE
TZID:Europe/Berlin
X-LIC-LOCATION:Europe/Berlin
BEGIN:DAYLIGHT
TZOFFSETFROM:+0100
TZOFFSETTO:+0200
TZNAME:CEST
DTSTART:19700329T020000
RRULE:FREQ=YEARLY;INTERVAL=1;BYDAY=-1SU;BYMONTH=3
END:DAYLIGHT
BEGIN:STANDARD
TZOFFSETFROM:+0200
TZOFFSETTO:+0100
TZNAME:CET
DTSTART:19701025T030000
RRULE:FREQ=YEARLY;INTERVAL=1;BYDAY=-1SU;BYMONTH=10
END:STANDARD
END:VTIMEZONE
BEGIN:VEVENT
UID:b9894aa959765a6f6994790551f2de0a@lena-gumnior.fuer-die-gruenen.de
URL;VALUE=URI:https://lena-gumnior.fuer-die-gruenen.de/termine/am-wahlkam
 pfstand-in-lilienthal/
LOCATION:
SUMMARY:Am Wahlkampfstand in Lilienthal
DESCRIPTION;ALTREP="data:text/html,":
CLASS:PUBLIC
DTSTART;TZID=Europe/Berlin:20250118T110000
DTEND;TZID=Europe/Berlin:20250118T130000
DTSTAMP:20260421T092029
END:VEVENT
END:VCALENDAR